BEGIN:VCALENDAR
VERSION:2.0
PRODID:Events Booking
BEGIN:VEVENT
UID:69e7844faf4d0
SUMMARY:Online event LG Darmstadt: Essential Skills to Lead Experience-Driv
 en Cultures by PMI Fellow Al Zeitoun
DESCRIPTION:Essential Skills to Lead Experience-Driven Cultures
 Future Le
 aders' roles and relationships will be explored in relationship to buildin
 g experience-driven cultures. Transforming in a digital world has been hig
 hly expedited by the power of virtual collaboration. Leaders are now expec
 ted to master new skills to effectively scale and leverage innovation outc
 omes as well as sustain their relevance in this extremely fast-changing na
 ture of work.by Al Zeitoun\, PMI Fellowhttps://www.linkedin.com/in/aazeito
 un/
 Questions? LGDarmstadt@pmi-gc.de 
DTSTART:20231108T170000Z
DTEND:20231108T183000Z
DTSTAMP:20230925T065423Z
ORGANIZER;CN=PMI Germany Chapter e.V.:MAILTO:website@pmi-gc.de
END:VEVENT
END:VCALENDAR