BEGIN:VCALENDAR
VERSION:2.0
PRODID:Events Booking
BEGIN:VEVENT
UID:69e77008695f3
SUMMARY:Online event LG Darmstadt:  How to become an inspiring leader (Ilan
 it Freeman)
DESCRIPTION:\"How to become an inspiring&nbsp\;leader\"by Ilanit Freeman\, 
 PMI Israel Chapter&nbsp\;
 
 The 3 principles for success &amp\; happine
 ss
 What is the effect of our bodies\, emotions and thoughts on our life 
 and our ability to lead others.
 The danger in the Impostor Syndrome and 
 how to release it
 Action plan to become an inspiring leader
 Gift from 
 me to you - Short meditation for professionalThe 3 principles for success 
 &amp\; happiness
 
 Questions: lgdarmstadt@pmi-gc.de&nbsp\;
 &nbsp\;
 
 Free event\, 1 PDUevent link will be sent to participants per email approx
  one day before
DTSTART:20240207T170000Z
DTEND:20240207T183000Z
DTSTAMP:20231226T102639Z
ORGANIZER;CN=PMI Germany Chapter e.V.:MAILTO:website@pmi-gc.de
END:VEVENT
END:VCALENDAR