BEGIN:VCALENDAR
VERSION:2.0
PRODID:Events Booking
BEGIN:VEVENT
UID:69e739a7aba6b
SUMMARY:Online event LG Darmstadt: You\, Me\, and the Bots: A Serious Conve
 rsation on AI and Our Profession
DESCRIPTION:AI presents threats\, challenges\, opportunities\, and adventur
 es. As professionals we will need to be able to incorporate “features”
  of AI in order to enhance our skills and competencies to deliver value in
  the future.&nbsp\; We will explore how that is happening now\, how it wil
 l happen in the future\, and how it will change the way we deliver value. 
 Automation of Routine Tasks\,&nbsp\;Advanced Analytics and Predictive Insi
 ghts\, Enhanced Planning\, Stakeholder Analysis\, Risk Management\, Augmen
 ted Decision-Making\, Intelligent Process Automation\, Ethical and Respons
 ible Artificial Intelligence (AI) Implementation\, and Intelligent Assista
 nce\, are skills projected to be impacted by AI. This presentation will di
 scuss this impact and how we can embrace the challenges and prepare for ou
 r future.
DTSTART:20240215T170000Z
DTEND:20240215T183000Z
DTSTAMP:20231228T161208Z
ORGANIZER;CN=PMI Germany Chapter e.V.:MAILTO:website@pmi-gc.de
END:VEVENT
END:VCALENDAR