BEGIN:VCALENDAR
VERSION:2.0
PRODID:Events Booking
BEGIN:VEVENT
UID:69e8477775c3d
SUMMARY:Online event LG Darmstadt: Reflections about project management and
  long distance running (by Lutz Kalcker)
DESCRIPTION:Reflections about project management and long distance running.
 Running 100 miles and managing a project may seem vastly different on the 
 surface\, but they share some common principles that can be insightful whe
 n reflecting on both experiences.In my presentation about my 100 mile run 
 project I will be sharing experiences and comparisons to business projects
  on topics such as goal setting\, planning and preparation\, endurance and
  persistence\, adaptability\, teamwork and support\, continuous improvemen
 t and celebrating milestones.
 &nbsp\;
 by Lutz Kalcker&nbsp\;https://ww
 w.linkedin.com/in/lutz-kalcker-75672675/
 Questions? LGDarmstadt@pmi-gc.d
 e&nbsp\;
DTSTART:20240402T160000Z
DTEND:20240402T173000Z
DTSTAMP:20240207T075231Z
ORGANIZER;CN=PMI Germany Chapter e.V.:MAILTO:website@pmi-gc.de
END:VEVENT
END:VCALENDAR