BEGIN:VCALENDAR
VERSION:2.0
PRODID:Events Booking
BEGIN:VEVENT
UID:69e74a2b33af1
SUMMARY:Online Event LG Darmstadt: Building Influence Equity by Jürgen Osc
 hadleus
DESCRIPTION:Speaking to us from Australia on
 \"Building Influence Equity\
 "Do you wish you had a greater ability to influence the people in your wor
 ld? Those stakeholders who have set views on what should happen? The team 
 members who don’t report to you. Managers who don’t seem to understand
  the key points you’re attempting to convey?
 If this is you\, then thi
 s session is for you!
 Jürgen Oschadleus\, https://www.linkedin.com/in/
 oschadleus/
 Questions? lgdarmstadt@pmi-gc.de 
DTSTART:20240606T160000Z
DTEND:20240606T173000Z
DTSTAMP:20240419T055819Z
ORGANIZER;CN=PMI Germany Chapter e.V.:MAILTO:website@pmi-gc.de
END:VEVENT
END:VCALENDAR