BEGIN:VCALENDAR
VERSION:2.0
PRODID:Events Booking
BEGIN:VEVENT
UID:69e78485a69e5
SUMMARY:Online event LG Darmstadt: Be like Water My Friend (Integrating Tai
 ji Principles for Efficiency and Stress Reduction in Project Management)
DESCRIPTION:In this presentation\, we embark on a unique journey of blendin
 g ancient wisdom with modern project management techniques to achieve our 
 goals with minimal energy input and stress. We begin by exploring the prof
 ound principles of the ancient Chinese philosophy of Taiji\, drawing paral
 lels to their counterparts in the world of project management. By understa
 nding the harmony and balance that Taiji embodies\, we uncover strategies 
 for optimizing our project endeavors.Building on this foundation\, we delv
 e into a cross-cultural analysis\, comparing conflict resolution approache
 s in the Western world with those in China. This exploration sheds light o
 n the cultural nuances that influence our decision-making and conflict man
 agement styles.Finally\, we unveil the 36 Strategems for conflict resoluti
 on\, elucidating their application in the realm of project management. Rea
 l-world examples illustrate how these age-old tactics can be leveraged to 
 overcome obstacles\, enhance collaboration\, and achieve project success w
 hile conserving valuable energy and mitigating stress. Join us in discover
 ing the art of harmonious project management through the wisdom of Taiji a
 nd the strategic prowess of the 36 Strategems.
 Michael FritzscheHAHN Aut
 omation Group (Director Project Management)
 https://www.linkedin.com/in/
 michael-fritzsche-65483553/
 Biography
 Global CitizenBorn in East Germa
 ny (16years in communism)\, Living in West GermanWorking globally (US\, Po
 land\, Netherlands\, UK\, Brazil\, Spain\, Austria\, China\, Mexico...)
 
 EducationDipl Ing Controls Engineering\, Bachelor of Business Administrat
 ion\, altMBA\, PGMPTaiji course instructor
 25 years’ experience in glo
 bal Project Management17 years ThyssenKrupp (PM => Manager PM)8 years HAHN
  Automation Group (Director Project Management)Mainly Automotive Industry
 
  
 Questions? lgdarmstadt@pmi-gc.de  
DTSTART:20231107T170000Z
DTEND:20231107T183000Z
DTSTAMP:20230915T043132Z
ORGANIZER;CN=PMI Germany Chapter e.V.:MAILTO:website@pmi-gc.de
END:VEVENT
END:VCALENDAR