BEGIN:VCALENDAR
VERSION:2.0
PRODID:Events Booking
BEGIN:VEVENT
UID:69e81d69de4f5
SUMMARY:LGT meeting Q1/2 at Bechtle Weimar
DESCRIPTION:Dear Thuringian project management friends\,we would like to in
 vite you to our Local Group Thuringia Q1/Q2 event. Unfortunately\, the pla
 nned visit to the Amazon logistics center had to be canceled or will be po
 stponed until further notice. That's why we took advantage of the friendly
  invitation from the Bechtle IT IT System Housein Weimar to meet and excha
 nge ideas there.Everyone interested in project management is welcome!
LOCATION:Lindenallee 6\, Weimar\, 99428 Thüringen\, Deutschland
DTSTART:20230420T160000Z
DTEND:20230420T180000Z
DTSTAMP:20230313T153428Z
ORGANIZER;CN=PMI Germany Chapter e.V.:MAILTO:website@pmi-gc.de
GEO:50.936308;11.292243
X-APPLE-STRUCTURED-LOCATION;VALUE=URI;X-ADDRESS=Lindenallee 6\, Weimar\, 99
 428 Thüringen\, Deutschland;X-APPLE-RADIUS=72;X-TITLE=:50.936308;11.29224
 3
END:VEVENT
END:VCALENDAR