BEGIN:VCALENDAR
VERSION:2.0
PRODID:Events Booking
BEGIN:VEVENT
UID:69e795eac8719
SUMMARY:Online PMI Germany Chapter Member Orientation 23-10
DESCRIPTION:At this event\, all new members of the PMI Germany Chapter will
  have the opportunity to ask questions on topics of interest to them in co
 nnection with the community of the PMI Germany Chapter.&nbsp\;The open dia
 log in the early evening will be facilitated by Jörg Glunde\, Vice Presid
 ent Members of the PMI Germany Chapter e.V.\, and sometimes with our Head 
 of Member Care Sevinc Genc as well as the Heads&nbsp\;of Member Care&nbsp\
 ;of our Regions Jutta Zilian\, Sladjana Tufegdzic\, Bernd Töpfer\, Eckhar
 d Hauenherm\, Heiko Stoldt und Knut Scheuer.
DTSTART:20231016T170000Z
DTEND:20231016T180000Z
DTSTAMP:20220519T174641Z
ORGANIZER;CN=PMI Germany Chapter e.V.:MAILTO:website@pmi-gc.de
END:VEVENT
END:VCALENDAR