BEGIN:VCALENDAR
VERSION:2.0
PRODID:Events Booking
BEGIN:VEVENT
UID:69e75e2cdee1e
SUMMARY:Online PMI Germany Chapter Member Orientation 24-02
DESCRIPTION:At this event\, all new members of the PMI Germany Chapter will
  have the opportunity to ask questions on topics of interest to them in co
 nnection with the community of the PMI Germany Chapter. The open dialog i
 n the early evening will be facilitated by Jörg Glunde\, Vice President M
 embers of the PMI Germany Chapter e.V.\, and sometimes with our Head of Me
 mber Care Michael Krekeler as well as the Heads of Member Care of our Re
 gions Jutta Zilian\, Sladjana Tufegdzic\, Bernd Töpfer\, Eckhard Hauenher
 m\, Heiko Stoldt und Knut Scheuer.
DTSTART:20240215T180000Z
DTEND:20240215T190000Z
DTSTAMP:20220519T174641Z
ORGANIZER;CN=PMI Germany Chapter e.V.:MAILTO:website@pmi-gc.de
END:VEVENT
END:VCALENDAR