BEGIN:VCALENDAR
VERSION:2.0
PRODID:Events Booking
BEGIN:VEVENT
UID:69e951b8755c8
SUMMARY:Online PMI Germany Chapter Member Orientation 24-02
DESCRIPTION:At this event\, all new members of the PMI Germany Chapter will
  have the opportunity to ask questions on topics of interest to them in co
 nnection with the community of the PMI Germany Chapter.&nbsp\;The open dia
 log in the early evening will be facilitated by Jörg Glunde\, Vice Presid
 ent Members of the PMI Germany Chapter e.V.\, and sometimes with our Head 
 of Member Care Michael Krekeler as well as the Heads&nbsp\;of Member Care&
 nbsp\;of our Regions Jutta Zilian\, Sladjana Tufegdzic\, Bernd Töpfer\, E
 ckhard Hauenherm\, Heiko Stoldt und Knut Scheuer.
DTSTART:20240320T170000Z
DTEND:20240320T180000Z
DTSTAMP:20220519T174641Z
ORGANIZER;CN=PMI Germany Chapter e.V.:MAILTO:website@pmi-gc.de
END:VEVENT
END:VCALENDAR