BEGIN:VCALENDAR
VERSION:2.0
PRODID:Events Booking
BEGIN:VEVENT
UID:69e8028c9e528
SUMMARY:Online PMI Germany Chapter Member Orientation
DESCRIPTION:At this event\, all new members of the PMI Germany Chapter will
  have the opportunity to ask questions on topics of interest to them in co
 nnection with the community of the PMI Germany Chapter. The open dialog i
 n the early evening will be facilitated by Jörg Glunde\, Vice President M
 embers of the PMI Germany Chapter e.V.\, and sometimes with the Heads of 
 Member Care of our Regions Sladjana Tufegdzic\, Bernd Töpfer\, Eckhard H
 auenherm\, Heiko Stoldt und Knut Scheuer.
DTSTART:20230515T170000Z
DTEND:20230515T180000Z
DTSTAMP:20220519T174641Z
ORGANIZER;CN=PMI Germany Chapter e.V.:MAILTO:website@pmi-gc.de
END:VEVENT
END:VCALENDAR