BEGIN:VCALENDAR
VERSION:2.0
PRODID:Events Booking
BEGIN:VEVENT
UID:69e819c407065
SUMMARY:Situational Leadership
DESCRIPTION:The Hersey-Blanchard Model\, also known as the Situational Lead
 ership Model\, is a Contingency Model of Leaderhip. The Hersey-Blanchard M
 odel\, also known as the Situational Leadership Model\, is a leadership th
 eory that suggests that the best leadership style is one that is tailored 
 to the maturity level of the followers. The model consists of four levels 
 of follower maturity - D1\, D2\, D3\, and D4\, and four corresponding lead
 ership styles - Telling\, Selling\, Participating and Delegating. Unlike o
 ther leadership models\, the Hersey-Blanchard model disregards the idea th
 at corporations require a single approach to leadership. Instead\, the mod
 el proposes a leadership style that adapts to the unique circumstances of 
 each workplace.
DTSTART:20230425T160000Z
DTEND:20230425T163000Z
DTSTAMP:20230220T105622Z
ORGANIZER;CN=PMI Germany Chapter e.V.:MAILTO:website@pmi-gc.de
END:VEVENT
END:VCALENDAR