BEGIN:VCALENDAR
VERSION:2.0
PRODID:Events Booking
BEGIN:VEVENT
UID:69e603664d667
SUMMARY:Member Meeting Online - PMI Germany Chapter - September 2025 - Focu
 s: What is going on in the Chapter...
DESCRIPTION:Mitgliedertreff Online - PMI Germany Chapter - Juni 2025 - Foku
 s: •	PMI Infinity™ 2.0 / Community of Practice KI
DTSTART:20250904T170000Z
DTEND:20250904T180000Z
DTSTAMP:20220519T174641Z
ORGANIZER;CN=PMI Germany Chapter e.V.:MAILTO:website@pmi-gc.de
END:VEVENT
END:VCALENDAR