BEGIN:VCALENDAR
VERSION:2.0
PRODID:Events Booking
BEGIN:VEVENT
UID:69e7abcb5293a
SUMMARY:Online Event LG Darmstadt: Earned Value in Agile Project Management
DESCRIPTION:Alexander MoorsStudent Bachelor Business InformaticsDB Systel P
 roject ManagementKPI concept for a strategic programThesis: Measuring prog
 ress in agile projectsStudent Presentation ‘Earned Value in PM’Alexand
 er will present his insights into using EV in agile environments as a stud
 ent and working at DB Systel.
 For any questions and help please contact&
 nbsp\;lgdarmstadt@pmi-gc.de&nbsp\;
DTSTART:20230926T160000Z
DTEND:20230926T173000Z
DTSTAMP:20230826T131031Z
ORGANIZER;CN=PMI Germany Chapter e.V.:MAILTO:website@pmi-gc.de
END:VEVENT
END:VCALENDAR