BEGIN:VCALENDAR
VERSION:2.0
PRODID:Events Booking
BEGIN:VEVENT
UID:69e88c17b1e01
SUMMARY:Online event LGDA: From data to insight for your project - Data Ana
 lytics in Project Management
DESCRIPTION:“From data to insight for your project - Data Analytics in Pr
 oject Management”by Miriam Schmid\, Merck Key take aways:1) How to leve
 rage data in project management to generate insights and enable decision m
 aking2) How to get from data to insight?3) What are the benefits of data d
 riven decision making and what do you need to consider4) How to maximizie 
 data value for your project? Questions? Contact lgdarmstadt@pmi-gc.de or
  0171 3358938
DTSTART:20221115T170000Z
DTEND:20221115T183000Z
DTSTAMP:20220921T151555Z
ORGANIZER;CN=PMI Germany Chapter e.V.:MAILTO:website@pmi-gc.de
END:VEVENT
END:VCALENDAR