BEGIN:VCALENDAR
VERSION:2.0
PRODID:Events Booking
BEGIN:VEVENT
UID:69e7845f38e24
SUMMARY:Online-Mitgliederversammlung 2023
DESCRIPTION:Dear member of the PMI Germany Chapter e.V.\,you will soon rece
 ive and invite to our General Meeting which will take place online on Nove
 mber 10th 2022 from 7 til 9pm MET.In this invite you will find a link to r
 egister in case you like to attend the online general meeting. Without thi
 s registration it will not be possible to attend the general meeting nor p
 articipate in the respective polls. Therefore please take note of the foll
 owing.
DTSTART:20231115T180000Z
DTEND:20231115T200000Z
DTSTAMP:20220903T091410Z
ORGANIZER;CN=PMI Germany Chapter e.V.:MAILTO:website@pmi-gc.de
END:VEVENT
END:VCALENDAR