BEGIN:VCALENDAR
VERSION:2.0
PRODID:Events Booking
BEGIN:VEVENT
UID:69e79ade77e57
SUMMARY:Afterwork company visit at Projektron GmbH
DESCRIPTION:Together with our chapter sponsor
  the Local Group Berlin inv
 ites you to an interesting evening.Learn how to use personas in marketing 
 as well as in product development and system implementation. They enable a
  better understanding of the customer and are an innovative tool for commu
 nication.In the application of BPMN with Projektron BCS\, processes are cr
 eated and edited directly via a graphic interface in the software and proc
 ess contents are compiled using drag & drop. It is shown how BPMN diagrams
  are created and specific parameters are set.
LOCATION:Charlottenstraße 68\, Berlin\, 10117\, Deutschland
DTSTART:20231012T150000Z
DTEND:20231012T173000Z
DTSTAMP:20230529T084032Z
ORGANIZER;CN=PMI Germany Chapter e.V.:MAILTO:website@pmi-gc.de
GEO:52.510121;13.391681
X-APPLE-STRUCTURED-LOCATION;VALUE=URI;X-ADDRESS=Charlottenstraße 68\, Berl
 in\, 10117\, Deutschland;X-APPLE-RADIUS=72;X-TITLE=:52.510121;13.391681
END:VEVENT
END:VCALENDAR