BEGIN:VCALENDAR
VERSION:2.0
PRODID:Events Booking
BEGIN:VEVENT
UID:69e8b43f518ba
SUMMARY:Project management in digital change
DESCRIPTION:The Local Group Thuringia invites you to a chapter meeting with
  the topic: Project management in digital change• What is digitization?
 • Digitization in project management - what is changing?• Challenges t
 o remote project management• Effects of digitization on project manageme
 nt skills
LOCATION:Gustav-Weißkopf-Straße 3-7\, Erfurt\, 99092 Thüringen\, Deutsch
 land
DTSTART:20220922T160000Z
DTEND:20220922T180000Z
DTSTAMP:20220911T131528Z
ORGANIZER;CN=PMI Germany Chapter e.V.:MAILTO:website@pmi-gc.de
GEO:50.972306;10.961459
X-APPLE-STRUCTURED-LOCATION;VALUE=URI;X-ADDRESS=Gustav-Weißkopf-Straße 3-
 7\, Erfurt\, 99092 Thüringen\, Deutschland;X-APPLE-RADIUS=72;X-TITLE=:50.
 972306;10.961459
END:VEVENT
END:VCALENDAR