BEGIN:VCALENDAR
VERSION:2.0
PRODID:Events Booking
BEGIN:VEVENT
UID:69e832939a955
SUMMARY:PM4TheWorld 24-hour Charity Conference - Turkey-Syria Earthquake Re
 lief
DESCRIPTION:The PMI community is shocked and saddened by the suffering and 
 loss of life experienced by the people of Türkiye and Syria. This devasta
 ting earthquake has impacted so many\, and the harsh winter brings further
  hardship.To assist those impacted the Project management community has co
 mmitted to contribute to the relief effort in Türkiye and Syria. Project 
 Management Institute\, PMI UK\, and Europe Chapters\, along with the Valen
 se Network and Pragsix\, are combining their resources to organise a 24-hr
  conference to help the people affected by the earthquake in Türkiye and 
 Syria.
 PM4TheWorld Charity Conference is VOLUNTEER-LED\, and FREE to att
 end. Participants are requested to DONATE to teams on-the-ground providing
  life-saving assistance to families affected by the disaster.
DTSTART:20230329T050000Z
DTEND:20230330T070000Z
DTSTAMP:20230311T083116Z
ORGANIZER;CN=PMI Germany Chapter e.V.:MAILTO:website@pmi-gc.de
END:VEVENT
END:VCALENDAR