BEGIN:VCALENDAR
VERSION:2.0
PRODID:Events Booking
BEGIN:VEVENT
UID:69e81a4cf3240
SUMMARY:PMI Chapter Xchange | Metaverse - Is it our New WoW ( World of Work
 )
DESCRIPTION:Today I think we look at the internet\, but I think in the futu
 re you are going to be in the experiences - Mark Zuckerberg
 Author Neal 
 Stephenson coined the word Metaverse in 1992\, in a science fiction novel 
 \"Snow Crash\,\" He wrote about imaginary buildings and avatars. A combina
 tion of AR\, VR\, and videos live in the digital universe – An experienc
 e
 A fully immersive experience where people can explore\, play games\, c
 ommunicate\, and create.
 Can Metaverse revolutionize\, the way we connec
 t\, collaborate and cocreate?
 Will the way we deliver projects be differ
 ent?
 Is this our new WoW (World of Work)?
 Join project leaders and man
 agers from across the globe for a #pmichapterXchange collaborative event o
 f 24-way collaboration between the PMI Chapters of\; Mumbai\, Netherlands\
 , South Africa\, Sri Lanka\, Phoenix\, New Zealand\, Zimbabwe\, Indonesia\
 , Gujarat\, Lima Peru\, Southern Alberta\, Sao Paulo\, Kenya\, Ghana\, Gre
 ece\, Puget Sound\, Poland\, Alaska\, United Arab Emirates\, Bangladesh\, 
 Nigeria\, Cameroon\, Germany\, and Turkiye while we explore The Metaverse 
 – Is it our New WoW?
DTSTART:20230421T140000Z
DTEND:20230421T160000Z
DTSTAMP:20230125T071932Z
ORGANIZER;CN=PMI Germany Chapter e.V.:MAILTO:website@pmi-gc.de
END:VEVENT
END:VCALENDAR