BEGIN:VCALENDAR
VERSION:2.0
PRODID:Events Booking
BEGIN:VEVENT
UID:69e784891d5f0
SUMMARY:„Manage the System\, Lead the People!“ – or how to represent 
 a project organization in a product oriented way
DESCRIPTION:Dear projectmanagement enthusiasts\,
 the diconium GmbH invite
 s us this November in Hamburg to learn more about the following topic:
 
 „Manage the System\, Lead the People!“ – or how to represent a proje
 ct organization in a product oriented way
 Come join us! We are looking f
 orward for your participation to have interesting and passionate discussio
 ns!
LOCATION:Große Elbstraße 61\, Hamburg\, 22767\, Deutschland
DTSTART:20231109T173000Z
DTEND:20231109T193000Z
DTSTAMP:20220707T194210Z
ORGANIZER;CN=PMI Germany Chapter e.V.:MAILTO:website@pmi-gc.de
GEO:53.544227;9.943042
X-APPLE-STRUCTURED-LOCATION;VALUE=URI;X-ADDRESS=Große Elbstraße 61\, Hamb
 urg\, 22767\, Deutschland;X-APPLE-RADIUS=72;X-TITLE=:53.544227;9.943042
END:VEVENT
END:VCALENDAR