BEGIN:VCALENDAR
VERSION:2.0
PRODID:Events Booking
BEGIN:VEVENT
UID:69e8a831b6c45
SUMMARY:Women’s Project Management Network: 5 Strategies to Grow YOUR Car
 eer
DESCRIPTION:In the next of our quarterly Women in Project Management webina
 rs\, we will focus on career building skills.This interactive webinar will
  have speakers to present ideas and use polls and discussion to &nbsp\;ass
 ess and learn from each other how we are each creating a path forward for 
 success.Please register &nbsp\;today and&nbsp\;and prepare your thoughts\,
  ideas and experiences to help you &nbsp\;build your network and plan for 
 what’s next.
 https://pmi.org.uk/event-listing/pmi-uk-webinar-womens-pr
 oject-management-network-5-strategies-to-grow-your-career-11th-july-2024/
 
 This event takes place on a platform of the PMI UK-Chapter.
 For any qu
 estions:&nbsp\;martin.bertram@pmi-gc.de&nbsp\;or Liz Hector &lt\;lizhector
 @gmail.com&gt\;\;
DTSTART:20240711T103000Z
DTEND:20240711T123000Z
DTSTAMP:20240514T111913Z
ORGANIZER;CN=PMI Germany Chapter e.V.:MAILTO:website@pmi-gc.de
END:VEVENT
END:VCALENDAR