BEGIN:VCALENDAR
VERSION:2.0
PRODID:Events Booking
BEGIN:VEVENT
UID:69e88a2533d61
SUMMARY:Portfolio Management
DESCRIPTION:Wilhelm Tomczak of Alevion Unternehmensberatung will speak on 0
 9.11.2022 about the Thinking Portfolio® service\, which enables companies
  to conduct the portfolio of projects\, applications\, services\, risks an
 d resources in a privacy-safe manner. The industry agnostic solution suppo
 rts management and decision making at a strategic level. Thinking Portfoli
 o® Service is a sponsor of the PMI Germany Chapter.Preliminary informatio
 n on Thinking Portfolio® Service is available online at:https://alevion.c
 om/thinking-portfolio/https://www.youtube.com/watch?v=enCtslSXADg&amp\;t=1
 4s
DTSTART:20221109T170000Z
DTEND:20221109T190000Z
DTSTAMP:20221004T062800Z
ORGANIZER;CN=PMI Germany Chapter e.V.:MAILTO:website@pmi-gc.de
END:VEVENT
END:VCALENDAR