BEGIN:VCALENDAR
VERSION:2.0
PRODID:Events Booking
BEGIN:VEVENT
UID:69e7845f3850a
SUMMARY:PMI Chapter Xchange Event - Project Management and the Future of Wo
 rk
DESCRIPTION:
 PMI Chapter Xchange Event
 
 Project Management and the Fu
 ture of Work !
 &nbsp\;
 
 Imagine a world where project managers are e
 mpowered to lead their teams to success in new and innovative ways. A worl
 d where project managers use artificial intelligence to automate tasks and
  gain insights into their projects. A world where project managers use vir
 tual reality and augmented reality to collaborate with team members from a
 ll over the world. And a world where project managers use data analytics t
 o make better decisions and improve project outcomes.
 &nbsp\;
 This is 
 the future of project management. And with the right skills and mindset\, 
 project managers can play a leading role in shaping the future of work.
 
 &nbsp\;
 Join us for a panel discussion with leading experts in project m
 anagement as they explore the future of the profession.&nbsp\;
 &nbsp\;

  This is a #pmichapterXchange collaborative event of 26-way collaboration 
 between the PMI Chapters of\; Mumbai\, Netherlands\, South Africa\, Sri La
 nka\, Phoenix\, New Zealand\, Zimbabwe\, Indonesia\, Gujarat\, Lima Peru\,
  Southern Alberta\, Sao Paulo\, Kenya\, Ghana\, Greece\, Puget Sound\, Pol
 and\, Alaska\, United Arab Emirates\, Bangladesh\, Nigeria\, Cameroon\, Ge
 rmany\, Luxembourg\, Turkiye and Madrid Spain while we explore Project Man
 agement and the Future of Work ! Our supporting chapters are PMI Japan and
  PMI Jalisco\, Mexico and PMI Taipei\, Taiwan
 &nbsp\;
 This event is op
 en to everyone\, regardless of your experience or expertise in project man
 agement. We encourage you to join us for this exciting and informative dis
 cussion.
 &nbsp\;
 Wait no more:
 Register to be part of this event on&
 nbsp\;
 Date: Nov 17\, 2023
 Time: 15:00 CET
 Register Microsoft Virtua
 l Events Powered by Teams
 
 When you register the time will be shown ac
 cording to your local time zone.
 
 This event is open to both members a
 nd non-members.
 
DTSTART:20231117T140000Z
DTEND:20231117T160000Z
DTSTAMP:20231027T142321Z
ORGANIZER;CN=PMI Germany Chapter e.V.:MAILTO:website@pmi-gc.de
END:VEVENT
END:VCALENDAR