BEGIN:VCALENDAR
VERSION:2.0
PRODID:Events Booking
BEGIN:VEVENT
UID:69e7d95ba512b
SUMMARY:Project management using the example of beer production with tour
DESCRIPTION:The Local Group Berlin/Brandenburg is looking forward to an exc
 iting Company Day with you at TapDog Berlin.4 ingredients is all you need 
 to brew beer. The difference in taste is what is done with those 4 ingredi
 ents to create a special beer.On this evening we explore the manufactory a
 nd the art of brewing and an insight into the project-oriented beer produc
 tion is granted... the result is also tasted.
LOCATION:Im Marienpark 23\, Berlin\, 12107\, Deutschland
DTSTART:20230712T160000Z
DTEND:20230712T180000Z
DTSTAMP:20230529T082141Z
ORGANIZER;CN=PMI Germany Chapter e.V.:MAILTO:website@pmi-gc.de
GEO:52.438037;13.368003
X-APPLE-STRUCTURED-LOCATION;VALUE=URI;X-ADDRESS=Im Marienpark 23\, Berlin\,
  12107\, Deutschland;X-APPLE-RADIUS=72;X-TITLE=:52.438037;13.368003
END:VEVENT
END:VCALENDAR