BEGIN:VCALENDAR
VERSION:2.0
PRODID:Events Booking
BEGIN:VEVENT
UID:69e7d98530eb3
SUMMARY:PMI Chapter Xchange - Project Manager as E(I)ntrepreneur
DESCRIPTION:PMI Chapter Xchange Event
 Project Manager as E(I)ntrepreneur
 
 \"Entrepreneurship is about turning what excites you in life into capita
 l so that you can do more of it and move forward with it.”— Richard Br
 anson\, founder of the Virgin GroupIsn't that what project managers do - m
 ake ideas a reality?Project managers\, especially those working in large o
 rganizations\, drive change - they are intrapreneurs. We only need to summ
 on our curiosity and strong drive to make ideas a reality. Why is an entr
 epreneurial mindset important for our initiatives' success?How can we cult
 ivate such a mindset?How can we unleash our teams' entrepreneurial potenti
 al to boost innovation?Join project leaders and managers from across the g
 lobe for a#pmichapterXchangecollaborative event of 26-way collaboration be
 tween the PMI Chapters of\; Mumbai\, Netherlands\, South Africa\, Sri Lank
 a\, Phoenix\, New Zealand\, Zimbabwe\, Indonesia\, Gujarat\, Lima Peru\, S
 outhern Alberta\, Sao Paulo\, Kenya\, Ghana\, Greece\, Puget Sound\, Polan
 d\, Alaska\, United Arab Emirates\, Bangladesh\, Nigeria\, Cameroon\, Germ
 any\, Luxembourg\, Turkiye and Madrid Spain while we explore Project Manag
 er as an E(I)ntre(a)preneur. Our supporting chapters are #PMIJapan. Regi
 ster to be part of this event onDate: Jul 21\, 2023Time: 16:00 – 18:00 H
 rs CESTRegister belowhttps://pmisouthasia.webex.com/webappng/sites/pmisout
 hasia/meeting/register/846ee5086a414db4a1083cd07e26cfec?ticket=4832534b000
 000067483d3145b28fcbb3d739297d77a076c2a41cbe76e1f1f8bf516fe2d6dc21944&time
 stamp=1689688833631&RGID=r180820bfe01f8bffcf8875a14a9789df
DTSTART:20230721T140000Z
DTEND:20230721T160000Z
DTSTAMP:20230716T165002Z
ORGANIZER;CN=PMI Germany Chapter e.V.:MAILTO:website@pmi-gc.de
END:VEVENT
END:VCALENDAR