BEGIN:VCALENDAR
VERSION:2.0
PRODID:Events Booking
BEGIN:VEVENT
UID:69e7aba51ed42
SUMMARY:[Blocker] Projektleitertreffen Hannover
DESCRIPTION:Beschreibung folgt demnächst
DTSTART:20230905T163000Z
DTEND:20230905T180000Z
DTSTAMP:20220613T131002Z
ORGANIZER;CN=PMI Germany Chapter e.V.:MAILTO:website@pmi-gc.de
END:VEVENT
END:VCALENDAR