BEGIN:VCALENDAR
VERSION:2.0
PRODID:Events Booking
BEGIN:VEVENT
UID:69e861fe85809
SUMMARY:Bring your Own Problem (BYOP) - solve your problems with community
DESCRIPTION:This evening we want to talk together about problems from your 
 everyday project life.
 
 Is your project stuck?
 Do you have a problem
  in your project that you would like support with?
 You want to know what
  you can do better next time?
 You have questions?
 
 Bring your proble
 m and discuss it with our experts1.We will discuss the issues and find sol
 utions in breakout sessions.
 You don't want your customer to be known? T
 hen discuss it as a fictitious problem.
DTSTART:20230117T173000Z
DTEND:20230117T190000Z
DTSTAMP:20220613T131002Z
ORGANIZER;CN=PMI Germany Chapter e.V.:MAILTO:website@pmi-gc.de
END:VEVENT
END:VCALENDAR