BEGIN:VCALENDAR
VERSION:2.0
PRODID:Events Booking
BEGIN:VEVENT
UID:69e849e03e61d
SUMMARY:7 ingredients to make your presentation look good 
DESCRIPTION:&gt\;&gt\; Event is in German language
 You know who you're ta
 lking to\, what you're saying and what you want to achieve with it? Good\,
  now let's take care of the form. If the form is poor\, it weakens the con
 tent\, makes the audience inattentive and fails to achieve your goals. A w
 ell-designed presentation makes your statements clear\, focused and exciti
 ng. Learn and practice the 7 steps to a good presentation.
DTSTART:20230207T173000Z
DTEND:20230207T190000Z
DTSTAMP:20220613T131002Z
ORGANIZER;CN=PMI Germany Chapter e.V.:MAILTO:website@pmi-gc.de
END:VEVENT
END:VCALENDAR