BEGIN:VCALENDAR
VERSION:2.0
PRODID:Events Booking
BEGIN:VEVENT
UID:69e849e00368d
SUMMARY:Die Utopie der Agilen Organisation
DESCRIPTION:&gt\;&gt\; Event will be in German language
 Ever heard of agi
 lity? Probably\, especially of Scrum. Another - if not the final - stage o
 f agility in a company is called an Agile Organization. But what is an agi
 le organization anyway? What constitutes it? One answer to this is the peo
 ple or the employees in the organization. And it is precisely at this poin
 t that the problem arises that the perfect Agile organization is and will 
 remain a utopia for almost all companies. More on this aspect can be found
  in the lecture.
DTSTART:20230223T160000Z
DTEND:20230223T173000Z
DTSTAMP:20220613T131305Z
ORGANIZER;CN=PMI Germany Chapter e.V.:MAILTO:website@pmi-gc.de
END:VEVENT
END:VCALENDAR