BEGIN:VCALENDAR
VERSION:2.0
PRODID:Events Booking
BEGIN:VEVENT
UID:69e7c3639cff4
SUMMARY:Let's Melt the Ice - Improve your Team Building
DESCRIPTION:&gt\;&gt\; This event will be provided in english language. &lt
 \;&lt\;
 At the start of our project\, we want to bring the team together
  with team building workshops. For this purpose\, we like to use so-called
  icebreaker games.
 We've all been victims of icebreakers gone wrong. Act
 ivities that are meant to be fun and bonding\, but instead\, feel forced\,
  awkward\, and are just moving way too fast for our introverted friends. T
 oo often\, the ice is \"broken\" without consent from the participants\, l
 eaving them feeling uncomfortable rather than connected.
 Imagine if iceb
 reakers could be more than just silly games but actually serve as meaningf
 ul tools to 'melt the ice' and create genuine connections.
 Through this 
 workshop\, you'll learn how to get buy-in even from the toughest crowds\, 
 from classrooms to “boredrooms” and leave with strategies to build eng
 agement\, trust and connections gradually.
 &gt\;&gt\; Join us and improv
 e your team building!
DTSTART:20230817T150000Z
DTEND:20230817T163000Z
DTSTAMP:20220613T131305Z
ORGANIZER;CN=PMI Germany Chapter e.V.:MAILTO:website@pmi-gc.de
END:VEVENT
END:VCALENDAR