BEGIN:VCALENDAR
VERSION:2.0
PRODID:Events Booking
BEGIN:VEVENT
UID:69e7848921db9
SUMMARY:Brain Basics für Veränderungen – Das wichtigste Tool sind wir s
 elbst
DESCRIPTION:Es gibt kaum ein Unternehmen\, das sich nicht in einer Transfor
 mation befindet. Ihr startet motiviert und übergreifend abgestimmt in die
  Transformation. Klasse!Und doch wird es oft zwischendurch sehr mühsam. E
 s kommt zu Transformations-Nebenwirkungen wie\, z.B. Stocken in der Vorwä
 rtsbewegung\, ewige Grundsatzdiskussionen bzgl. Methoden/Tools\, erhöhtes
  Misstrauen &amp\; Abwehr\, Konfusion in der Ausrichtung usw. Aus Sorge di
 e Veränderungsziele nicht zu erreichen\, werden diese dann oft mit Druck 
 durchgesetzt\, wenn auch nur oberflächlich. Es wird noch mühsamer.Das al
 les entsteht größtenteils dadurch\, weil die wenigsten Beteiligten um di
 e natürlichen Mechanismen des Gehirns und Nervensystems in Veränderungen
  wissen. Unbewusst landet man so in vielen Stolperfallen\, die man mit dem
  notwendigen Wissen umgehen kann. Marija Radtke gibt hier einen kleinen Ei
 nblick in ihre Brain Basics für Transformationen:
 
 Realität bewusst 
 mitgestalten (Wirklichkeitskreislauf\, Glaubenssätze)
 Visionen aktivier
 en (Andockpunkte für Mitarbeitende geben)
 Vorangehen statt steckenbleib
 en (Raus aus aus der Gedankenfalle)
 
 Kleine Übungen machen das Thema 
 erlebbar.
 &gt\;&gt\; Nutzt die Möglichkeit und seid dabei!
DTSTART:20231123T160000Z
DTEND:20231123T173000Z
DTSTAMP:20220613T131305Z
ORGANIZER;CN=PMI Germany Chapter e.V.:MAILTO:website@pmi-gc.de
END:VEVENT
END:VCALENDAR