BEGIN:VCALENDAR
VERSION:2.0
PRODID:Events Booking
BEGIN:VEVENT
UID:69e7708cf41c7
SUMMARY:Projekte – ein  Kinderspiel!
DESCRIPTION:Projektmanagement ist ein Thema\, mit dem gerade Kinder und Jug
 endliche früh in Berührung kommen sollten\, denn Kinder sind die geboren
 en Projektmanager!
 Dass es möglich ist\, jungen (und jung gebliebenen!)
  Menschen einen wunderbaren Zugang zu Projekten zu ermöglichen\, zeigt da
 s im Selbstverlag publizierte Kinder- und Jugendbuch „Fauch will fliegen
 . Projektmanagement verstehen für Kinder“ von Michaela und Mathias Flic
 k. Im Buch möchte der kleine\, grüne Drache Fauch gemeinsam mit seinen t
 ierischen Freunden auf große Flugreise um die Welt gehen. Weil aber nicht
  alle Tiere fliegen können\, bauen sich Fauch und seine Freunde ein fanta
 stisches Fluggerät – einen Zeppelong! Auf diese Weise lernen sie\, was 
 ein Projekt ist\, auf was es bei einem Projekt ankommt – und natürlich 
 erlebt die tierische Truppe allerhand spannende Abenteuer auf ihrem Weg.

  Die Autorin Michaela Flick gibt Einblicke ins Buch und zeigt auf\, mit we
 lchen didaktischen Tricks und Kniffen es möglich ist\, Kindern spielerisc
 h mit dem Thema Projektmanagement in Berührung zu bringen.
DTSTART:20231205T173000Z
DTEND:20231205T190000Z
DTSTAMP:20220613T131002Z
ORGANIZER;CN=PMI Germany Chapter e.V.:MAILTO:website@pmi-gc.de
END:VEVENT
END:VCALENDAR