BEGIN:VCALENDAR
VERSION:2.0
PRODID:Events Booking
BEGIN:VEVENT
UID:69e760a458bb8
SUMMARY:Der Anti-Change-Bot - AI-Unterstützung bei Veränderungen
DESCRIPTION:Bei diesem Projektleitertreffen stellt Philipp Diebold den inno
 vativen \"Anti-Change-Bot\" vor\, einen auf ChatGPT basierten Chatbot. Was
  kann dieser Chatbot und was nutzt er uns? Er unterstützt jeden\, der ein
 e Veränderung angehen muss oder möchte\, durch Konversation mit einem ch
 ange-skeptischen Chat-Bot.
 Du musst Menschen von der Notwendigkeit von V
 eränderung überzeugen? &gt\;&gt\; Dann sei dabei!
DTSTART:20240125T160000Z
DTEND:20240125T173000Z
DTSTAMP:20220613T131305Z
ORGANIZER;CN=PMI Germany Chapter e.V.:MAILTO:website@pmi-gc.de
END:VEVENT
END:VCALENDAR