BEGIN:VCALENDAR
VERSION:2.0
PRODID:Events Booking
BEGIN:VEVENT
UID:69e7ab9b095a7
SUMMARY:Business success through the competent use of AI chatbots (German)
DESCRIPTION:This event will be held in German.Andre Fuchs gives a good over
 view of how chatbots can be used successfully in business. Topics that he 
 highlights:
 
 Assessing the suitability of chatbots
 Consequences of d
 isruption by chatbots for professional groups
 Profitable use of AI chatb
 ots
 Drafting contracts for the use of AI
 Skills development for employ
 ees
 
 After a final summary\, Andre will be available to answer questio
 ns.&gt\;&gt\; Would you like to learn more about the use of AI chatbots? T
 hen join us!
DTSTART:20240409T163000Z
DTEND:20240409T180000Z
DTSTAMP:20220613T131305Z
ORGANIZER;CN=PMI Germany Chapter e.V.:MAILTO:website@pmi-gc.de
END:VEVENT
END:VCALENDAR