BEGIN:VCALENDAR
VERSION:2.0
PRODID:Events Booking
BEGIN:VEVENT
UID:69e88c061aff3
SUMMARY:Regensburg Stammtisch: Lessons Learned
DESCRIPTION:Das Thema das heutigen Stammtischs des Local Chapter Regensburg
  ist Lessons Learned im Projektumfeld. 
LOCATION:Rote-Löwen-Straße 10\, Regensburg\, 93047 Bayern\, Deutschland
DTSTART:20221123T180000Z
DTEND:20221123T210000Z
DTSTAMP:20221028T131320Z
ORGANIZER;CN=PMI Germany Chapter e.V.:MAILTO:website@pmi-gc.de
GEO:49.020728;12.08901
X-APPLE-STRUCTURED-LOCATION;VALUE=URI;X-ADDRESS=Rote-Löwen-Straße 10\, Re
 gensburg\, 93047 Bayern\, Deutschland;X-APPLE-RADIUS=72;X-TITLE=CASA RIOS 
 Regensburg:49.020728;12.08901
END:VEVENT
END:VCALENDAR