BEGIN:VCALENDAR
VERSION:2.0
PRODID:Events Booking
BEGIN:VEVENT
UID:69e8329ac7fcc
SUMMARY:Round Table Heidelberg March 2023
DESCRIPTION:Our first round table in 2023 in Heidelberg.The Author Marco Le
 messi will present the key thoughts of his new book: Serve to lead&nbsp\;F
 ollowed by a discussion about the implications for project manegers.
 Ple
 ase adress any questions to:&nbsp\;ana.coelho@pmi-gc.de
LOCATION:Rohrbacher Straße 47\, Heidelberg\, 69115 Baden-Württemberg\, De
 utschland
DTSTART:20230317T180000Z
DTEND:20230317T210000Z
DTSTAMP:20230221T075136Z
ORGANIZER;CN=PMI Germany Chapter e.V.:MAILTO:website@pmi-gc.de
GEO:49.403594;8.692309
X-APPLE-STRUCTURED-LOCATION;VALUE=URI;X-ADDRESS=Rohrbacher Straße 47\, Hei
 delberg\, 69115 Baden-Württemberg\, Deutschland;X-APPLE-RADIUS=72;X-TITLE
 =Hugo Wine & Dine:49.403594;8.692309
END:VEVENT
END:VCALENDAR