BEGIN:VCALENDAR
VERSION:2.0
PRODID:Events Booking
BEGIN:VEVENT
UID:69e8a13889922
SUMMARY:Round Table - PMI Local Group Hamburg - August 2022
DESCRIPTION:Dear projectmanagement enthusiasts\,
 the PMI Local Group Hamb
 urg is happy to invite you to our first project management round-table wit
 h physical presence\, after a longer break due to the COVID pandemic.After
  this long period without physical meeting we would like to focus within t
 his event on exchange on project management topics and networking.This eve
 nt will be conducted outdoors at the HTHC clubhouse. Drinks and snacks can
  be bought inside of the HTHC clubhouse.We are looking forward for your pa
 rticipation to have interesting and passionate discussions!
LOCATION:Barmbeker Straße 106\, Hamburg\, 22303 Hamburg\, Deutschland
DTSTART:20220815T160000Z
DTEND:20220815T180000Z
DTSTAMP:20220707T194210Z
ORGANIZER;CN=PMI Germany Chapter e.V.:MAILTO:website@pmi-gc.de
GEO:53.592139;10.008947
X-APPLE-STRUCTURED-LOCATION;VALUE=URI;X-ADDRESS=Barmbeker Straße 106\, Ham
 burg\, 22303 Hamburg\, Deutschland;X-APPLE-RADIUS=72;X-TITLE=Hamburg\, HTH
 C:53.592139;10.008947
END:VEVENT
END:VCALENDAR