BEGIN:VCALENDAR
VERSION:2.0
PRODID:Events Booking
BEGIN:VEVENT
UID:69e8a138b30d0
SUMMARY:Roundtable Augsburg August 2022
DESCRIPTION:PMI StammtischDieser Stammtisch soll einen Austausch und Diskus
 sion unter Projektleitern ermöglichen.
 Thema: *tbd*
 Bilingual Event

  Meeting-Format: tbd
 Event-Day: First Thursday of month (04.08.2022\, 06
 .10.2022\, 01.12.2022
 Event-Time: 6:00 - 08:00 p.m.
 Event-Code: C421-A
 -22-XX-XX
 PDU-Code: given to participants afterwards
 Contact: sonja.be
 hrmann@pmi-gc.de
  
LOCATION:Max-von-Laue-Str. 16\, Augsburg
DTSTART:20221013T160000Z
DTSTAMP:20220530T162122Z
ORGANIZER;CN=PMI Germany Chapter e.V.:MAILTO:website@pmi-gc.de
GEO:48;9999.999999
X-APPLE-STRUCTURED-LOCATION;VALUE=URI;X-ADDRESS=Max-von-Laue-Str. 16\, Augs
 burg;X-APPLE-RADIUS=72;X-TITLE=Grill`n Chill Augsburg:48;9999.999999
END:VEVENT
END:VCALENDAR