BEGIN:VCALENDAR
VERSION:2.0
PRODID:Events Booking
BEGIN:VEVENT
UID:69e7c35b26d1f
SUMMARY:Roundtable Eschborn August 2023
DESCRIPTION:We look forward to an evening with you.We discuss the following
  topics
 
 Does the project manager have to be a magician?
 What must a
  good project manager be able to do?
 What makes a good project manager?
 
 
 Bring your ideas or questions to our panel discussion
LOCATION:Mannheimer Straße 1\, Eschborn\, 65760 Hessen\, Deutschland
DTSTART:20230822T160000Z
DTEND:20230822T180000Z
DTSTAMP:20220623T162607Z
ORGANIZER;CN=PMI Germany Chapter e.V.:MAILTO:website@pmi-gc.de
GEO:50.131865;8.567669
X-APPLE-STRUCTURED-LOCATION;VALUE=URI;X-ADDRESS=Mannheimer Straße 1\, Esch
 born\, 65760 Hessen\, Deutschland;X-APPLE-RADIUS=72;X-TITLE=Moxy Eschborn:
 50.131865;8.567669
END:VEVENT
END:VCALENDAR