BEGIN:VCALENDAR
VERSION:2.0
PRODID:Events Booking
BEGIN:VEVENT
UID:69e78262a3419
SUMMARY:Einführung Security Operations Center/ Cyber Defense Center aus Si
 cht des Projektmanagers (Teil 1) und aus Sicht des Projektmitarbeiters (Te
 il 2)
DESCRIPTION:Agenda
 Vorstellung&nbsp\;iteratec Stefan Blum
 https://www.i
 teratec.com/de/
 
 Vorstellung PMI Germany Chapter VP Region South Jutta
  Zilian (Sprecher 1)
 
 Vorstellung ISACA Germany Chapter Marketing &amp
 \; Communications Julia Hermann (Sprecher 2)
 Was ist ein SOC (Security O
 perations Center) Julia Hermann
 Wie SOC Projekte erfolgreich umgesetzt w
 erden (Schwerpunkt Outsourcing) Jutta Zilian
 SOC aus der Praxis Julia He
 rmann
 Thread Modelling iteratec TBD
LOCATION:Sankt-Martin-Straße 114\, München\, 81669 Bayern\, Deutschland
DTSTART:20231123T170000Z
DTEND:20231123T200000Z
DTSTAMP:20230912T151811Z
ORGANIZER;CN=PMI Germany Chapter e.V.:MAILTO:website@pmi-gc.de
GEO:48.119806;11.602837
X-APPLE-STRUCTURED-LOCATION;VALUE=URI;X-ADDRESS=Sankt-Martin-Straße 114\, 
 München\, 81669 Bayern\, Deutschland;X-APPLE-RADIUS=72;X-TITLE=:48.119806
 ;11.602837
END:VEVENT
END:VCALENDAR