BEGIN:VCALENDAR
VERSION:2.0
PRODID:Events Booking
BEGIN:VEVENT
UID:69e7ece9baf2b
SUMMARY:Extra Volunteer Event with Lenka Pincot: Insights from my China vis
 it 
DESCRIPTION:We want to thank you for the great volunteer work you have done
  and continue to do for the chapter\, and we want to give you guidance in 
 our community. Therefore we would like to invite you to our 3rd Germany-w
 ide virtual Volunteer Event on Thursday\, 22.06.2023\, 5 to 6:30 pm. 
 
  
  
DTSTART:20230622T150000Z
DTEND:20230622T163000Z
DTSTAMP:20221020T095714Z
ORGANIZER;CN=PMI Germany Chapter e.V.:MAILTO:website@pmi-gc.de
END:VEVENT
END:VCALENDAR