BEGIN:VCALENDAR
VERSION:2.0
PRODID:Events Booking
BEGIN:VEVENT
UID:69e8a18606562
SUMMARY:Special Round Table Eschborn Oktober 2022 - 3D-Welten
DESCRIPTION:Und weiter geht's mit einem Spezial-Stammtisch Eschborn aber di
 esmal im
 &nbsp\;
 Open Space der Digital Factory der Deutschen Bank
 &
 nbsp\;
 Der Abend steht unter dem Thema 3D-Welten mit unserem Referenten 
 Janek Panneitz.
 In a team\, we will together structure contents in a gam
 ing way. The big advantage is the concentration of information and the red
 uction of complexity to a measure the makes it possible to recognize the c
 ontext and the interactions.
 Veranstaltungsort: Digital Factory der Deut
 schen Bank in Frankfurt-Sossenheim\, Adolph-Prior-Straße 11.Getränke und
  Pizza werden vom Chapter gestellt.
 Der PDU-Code wird auf der Veranstalt
 ung bekannt gegeben.Der Abend wird moderiert von Andrea Schlick und Andrea
 s Berning.
 Kontakt: andreas.berning@pmi-gc.de
LOCATION:Adolph-Prior-Straße 11\, Frankfurt am Main\, 65936 Hessen\, Deuts
 chland
DTSTART:20221018T160000Z
DTEND:20221018T190000Z
DTSTAMP:20220623T162607Z
ORGANIZER;CN=PMI Germany Chapter e.V.:MAILTO:website@pmi-gc.de
GEO:50.129367;8.58028
X-APPLE-STRUCTURED-LOCATION;VALUE=URI;X-ADDRESS=Adolph-Prior-Straße 11\, F
 rankfurt am Main\, 65936 Hessen\, Deutschland;X-APPLE-RADIUS=72;X-TITLE=:5
 0.129367;8.58028
END:VEVENT
END:VCALENDAR