BEGIN:VCALENDAR
VERSION:2.0
PRODID:Events Booking
BEGIN:VEVENT
UID:69e7da586bc28
SUMMARY:Round Table - PMI Local Group Hamburg - April 2023
DESCRIPTION:Dear projectmanagement enthusiasts\,
 the PMI Local Group Hamb
 urg is happy to invite you to our next project management round-table. Thi
 s event will be conducted as the last time at the HTHC clubhouse.
 We are
  looking forward for your participation to have interesting and passionate
  discussions!
LOCATION:Barmbeker Straße 106\, Hamburg\, 22303 Hamburg\, Deutschland
DTSTART:20230703T160000Z
DTEND:20230703T180000Z
DTSTAMP:20220707T194210Z
ORGANIZER;CN=PMI Germany Chapter e.V.:MAILTO:website@pmi-gc.de
GEO:53.592139;10.008947
X-APPLE-STRUCTURED-LOCATION;VALUE=URI;X-ADDRESS=Barmbeker Straße 106\, Ham
 burg\, 22303 Hamburg\, Deutschland;X-APPLE-RADIUS=72;X-TITLE=Hamburg\, HTH
 C:53.592139;10.008947
END:VEVENT
END:VCALENDAR