BEGIN:VCALENDAR
VERSION:2.0
PRODID:Events Booking
BEGIN:VEVENT
UID:69e81e178eba9
SUMMARY:LG Konstanz: Hyperstone - PM in the high-performance semiconductor 
 industry - lecture and guided tour! 
DESCRIPTION:NOTE: Event will be held in German.
 PMI LG Konstanz Stammtisc
 h:&nbsp\;Hyperstone - PM in the high-performance semiconductor industry - 
 lecture and guided tour! 
 We continue our series of insights into the wo
 rld of applied project management !
 It is great that we can again visit 
 a company from our members to exchange ideas about industry-specific PM on
  site.
 We will meet for this at the next LG Konstanz Stammtisch at Hyper
 stone GmbH in Konstanz.
 Richard Willems will be our host and inform us a
 bout project management challenges in the development of flash memory cont
 rollers.
 In addition to the lecture\, there will be a guided tour to get
  a practical idea of the projects.
LOCATION:Reichenaustraße 39a\, Konstanz\, 78467 Baden-Württemberg\, Deuts
 chland
DTSTART:20230424T163000Z
DTEND:20230424T190000Z
DTSTAMP:20220930T060153Z
ORGANIZER;CN=PMI Germany Chapter e.V.:MAILTO:website@pmi-gc.de
GEO:47.671749;9.162292
X-APPLE-STRUCTURED-LOCATION;VALUE=URI;X-ADDRESS=Reichenaustraße 39a\, Kons
 tanz\, 78467 Baden-Württemberg\, Deutschland;X-APPLE-RADIUS=72;X-TITLE=:4
 7.671749;9.162292
END:VEVENT
END:VCALENDAR