BEGIN:VCALENDAR
VERSION:2.0
PRODID:Events Booking
BEGIN:VEVENT
UID:69e7542c29277
SUMMARY:Stammtisch Rheinland (Face-to-Face)
DESCRIPTION:As a regular on-site event\, Stammtisch Rheinland is the access
 ible offering in the Cologne/Bonn area for project management experts and 
 enthusiasts\, and also for learners preparing for certification. In a casu
 al atmosphere\, we gather for connection\, networking\, and fruitful discu
 ssions.
 Project management enthusiasts\, both chapter members and non-me
 mbers\, with or without certification: You are warmly welcome. We look for
 ward to personal encounters and shared exchanges!The February Meetup will 
 take place at the Sander restaurant in Bonn's \"Urban Soul\,\" across from
  the main train station.
 Directions: By public transportation: Approxima
 tely 3 minutes' walk from Bonn Central Station.
 By car: Parking garage \
 "Alte Bahnhofstraße\" (50m to the restaurant)\, Parking garage Bonn Centr
 al Station\, entrance via Rabinstraße (500m to the restaurant)
 Language
 : English/German The PDU code will be issued during the event.Contact for 
 inquiries: alexandra.brueckner@pmi-gc.de
LOCATION:Bonn\, 53111 Nordrhein-Westfalen\, Deutschland
DTSTART:20240215T180000Z
DTEND:20240215T200000Z
DTSTAMP:20240116T195152Z
ORGANIZER;CN=PMI Germany Chapter e.V.:MAILTO:website@pmi-gc.de
GEO:50.732134;7.099609
X-APPLE-STRUCTURED-LOCATION;VALUE=URI;X-ADDRESS=Bonn\, 53111 Nordrhein-West
 falen\, Deutschland;X-APPLE-RADIUS=72;X-TITLE=Restaurant Sander\, Bonn:50.
 732134;7.099609
END:VEVENT
END:VCALENDAR