BEGIN:VCALENDAR
VERSION:2.0
PRODID:Events Booking
BEGIN:VEVENT
UID:69e67ad8061a8
SUMMARY:Local Group Boeblingen: AGIL - A visual journey
DESCRIPTION:Fourth meeting of the local Group Boeblingen in the branch of A
 VL Software and Functions GmbH in Leonberg.
 The Series: AGIL - A visual 
 Journey
 Requirements handling in agil vs traditional project lifecycles
 
 The meeting is intended to provide an opportunity to exchange experience
 s in various sectors and aims to assess visually the difference between re
 quriements handling in agil and traditional project lifecycles and create 
 a unique experience.&nbsp\;
 PDU(s):&nbsp\;
 1 - Ways of working 0 - Pow
 er Skill0 - Business Acumen
 &nbsp\;
 Erhard Lump\, founder of the local
  group\, is looking forward to a lively turnout!
LOCATION:Bahnhofstraße\, Leonberg\, 71229 Baden-Württemberg\, Deutschland
DTSTART:20241204T180000Z
DTEND:20241204T200000Z
DTSTAMP:20240201T100555Z
ORGANIZER;CN=PMI Germany Chapter e.V.:MAILTO:website@pmi-gc.de
GEO:48.800549;9.008561
X-APPLE-STRUCTURED-LOCATION;VALUE=URI;X-ADDRESS=Bahnhofstraße\, Leonberg\,
  71229 Baden-Württemberg\, Deutschland;X-APPLE-RADIUS=72;X-TITLE=AVL Soft
 ware and Functions GmbH:48.800549;9.008561
END:VEVENT
END:VCALENDAR