BEGIN:VCALENDAR
VERSION:2.0
PRODID:Events Booking
BEGIN:VEVENT
UID:69e9e14e5e9f8
SUMMARY:Study Brunch Online Event(in English): Address and Remove Impedimen
 ts\, Obstacles\, and Blockers for the Team by Osahon Idehen PMP on 3rd Jun
  at 11 am CET
DESCRIPTION:Study Brunch Online Event(in English): Address and Remove Imped
 iments\, Obstacles\, and Blockers for the Team by Osahon Idehen PMP on 3rd
  Jun at 11 am CET
 Theme: Domain 1 - People: PMBOK - Address and Remove I
 mpediments\, Obstacles\, and Blockers for the Team
 Osahon Idehen\, PMP\,
  CInP\, an energetic young chemical engineer aspiring for innovations and 
 growth opportunities in the energy sector and helping organization achieve
  set objectives with about a decade of experience in the oil and gas indus
 try working particularly in the downstream/refinery and petrochemical sect
 or as an operator\, crude oil evaluation engineer and currently as innovat
 ion engineer high-performance products formulation and testing. A team pla
 yer with creativity\, integrity\, and a drive for excellence with sound pr
 oject management skills. A PMI volunteer\, PMP Exam practice Question deve
 loper\, article writer on Project management magazine\, and an Agile Coach
  for PMI Lima Chapter (2021).He enjoys his work as an Innovation engineer\
 , ready to learn more. Loves teaching\, games\, music and social services.
DTSTART:20230603T090000Z
DTEND:20230603T100000Z
DTSTAMP:20230415T110947Z
ORGANIZER;CN=PMI Germany Chapter e.V.:MAILTO:website@pmi-gc.de
END:VEVENT
END:VCALENDAR