BEGIN:VCALENDAR
VERSION:2.0
PRODID:Events Booking
BEGIN:VEVENT
UID:69e803f50ebd2
SUMMARY:Study Brunch Online Event(in English): Engage Stakeholders by Nesri
 ne Roumieh on 6th May at 11 am CET
DESCRIPTION:The PMI Germany Chapter has launched Study Brunch in the Year 2
 023. We meet on regular basis twice in a month. To address the queries and
  emerge with ideas. Difficult issues are discussed respectfully and empowe
 rs community residents. Solicit Volunteers to help in your efforts. It wil
 l be great opportunity for Professionals to know about the PMP Exam new pa
 ttern. Experienced Speakers covering topics from the Domains of PMP as per
  PMBOK 7 . Few Sessions also covers Simulator Questions from PMP Exam.The 
 Study Group is your one-stop solution for your desire to become a PMP.
 &
 nbsp\;
DTSTART:20230506T090000Z
DTEND:20230506T100000Z
DTSTAMP:20230325T131336Z
ORGANIZER;CN=PMI Germany Chapter e.V.:MAILTO:website@pmi-gc.de
END:VEVENT
END:VCALENDAR