BEGIN:VCALENDAR
VERSION:2.0
PRODID:Events Booking
BEGIN:VEVENT
UID:69e8329b2495b
SUMMARY:Study Brunch Online Event(in English) : Manage Project Changes
DESCRIPTION:Mujahid Abdulkareem\, PRINCE2\, PMP is a lead Project Manager a
 t Bosch Sensortec Germany with a focus on Business Reporting. His main act
 ivities revolve around planning and delivering management reports and user
 s' training. He's PMP certified and has been involved with project managem
 ent for over six years. He is based in Berlin. Topic Plan and Manage Scope
DTSTART:20230303T230000Z
DTEND:20230303T230000Z
DTSTAMP:20230219T190029Z
ORGANIZER;CN=PMI Germany Chapter e.V.:MAILTO:website@pmi-gc.de
END:VEVENT
END:VCALENDAR